BEGIN:VCALENDAR
VERSION:2.0
CALSCALE:GREGORIAN
METHOD:PUBLISH
PRODID://LSRP//514241
BEGIN:VEVENT
DTSTAMP:20260423T111033
VTIMEZONE:America/New_York
DTSTART:20260804T200000Z
DTEND:20260805T010000Z
UID:514241
SUMMARY:August 4, 2026 - Battle at the Beach Cornhole Tournament
LOCATION:Martell's Tiki Bar, 308 Boardwalk, Point Pleasant Beach, NJ, 08742
DESCRIPTION:August 4, 2026 - Battle at the Beach Cornhole Tournament\n\n08/04/26 04:00 PM EST\n - 08/04/26 09:00 PM EST\Description:\nComing soon... The Battle at the Beach Cornhole Tournament.\n\nMartell's Tiki Bar, Point Pleasant Beach, NJ\n\nRain Date: August 11, 2026\Location:\nMartell's Tiki Bar\n308 Boardwalk\nPoint Pleasant Beach, NJ 08742
X-ALT-DESC;FMTTYPE=text/html:August 4, 2026 - Battle at the Beach Cornhole Tournament<br /><br />08/04/26 04:00 PM EST - 08/04/26 09:00 PM EST<br />Description:<br />Coming soon... The Battle at the Beach Cornhole Tournament.<br />
<br />
Martell's Tiki Bar, Point Pleasant Beach, NJ<br />
<br />
Rain Date: August 11, 2026<br />Location:<br />Martell's Tiki Bar<br />308 Boardwalk<br />Point Pleasant Beach, NJ 08742
PRIORITY:3
TRANSP:TRANSPARENT
BEGIN:VALARM
TRIGGER:-PT5M
ACTION:DISPLAY
DESCRIPTION:Reminder
END:VALARM
END:VEVENT
END:VCALENDAR
